BEGIN:VCALENDAR
VERSION:2.0
PRODID:-//Sucre Charity Foundation - ECPv6.15.20//NONSGML v1.0//EN
CALSCALE:GREGORIAN
METHOD:PUBLISH
X-WR-CALNAME:Sucre Charity Foundation
X-ORIGINAL-URL:https://sucrecharityfoundation.org
X-WR-CALDESC:Events for Sucre Charity Foundation
REFRESH-INTERVAL;VALUE=DURATION:PT1H
X-Robots-Tag:noindex
X-PUBLISHED-TTL:PT1H
BEGIN:VTIMEZONE
TZID:UTC
BEGIN:STANDARD
TZOFFSETFROM:+0000
TZOFFSETTO:+0000
TZNAME:UTC
DTSTART:20220101T000000
END:STANDARD
END:VTIMEZONE
BEGIN:VEVENT
DTSTART;TZID=UTC:20230906T170000
DTEND;TZID=UTC:20230906T190000
DTSTAMP:20260425T073906
CREATED:20230609T230811Z
LAST-MODIFIED:20230830T223559Z
UID:814-1694019600-1694026800@sucrecharityfoundation.org
SUMMARY:Emigrar: Destino EEUU ¡Lo que necesitas saber!
DESCRIPTION:https://emigrardestinoeeuu.eventbrite.com/ \nPatricia Castillo Flanagan es una abogada diligente\, apasionada y dedicada cuya misión es obtener visas de empleo para inversionistas\, profesionales y personas con habilidades extraordinarias o especiales. \nElla representa a clientes ante los Servicios de Ciudadanía e Inmigración de los Estados Unidos (USCIS) con respecto a las solicitudes de visa de no inmigrante; peticiones de trabajadores inmigrantes; Peticiones de visa de inmigrante basadas en la familia y solicitudes de naturalización\, así como corporaciones multinacionales en asuntos de inmigración comercial. También prepara indultos de inadmisibilidad penal y solicitudes para el procesamiento consular de visas de inmigrantes y no inmigrantes. \nEducación Académica \n\nJuris Doctor\, mayo de 2009; orientado en la Práctica Jurídica Internacional\nLicenciatura en Artes\, Relaciones Internacionales y Ciencias Políticas\, Mayo de 2005
URL:https://sucrecharityfoundation.org/evento/emigrar-destino-eeuu-lo-que-necesitas-saber/
LOCATION:Online por zoom\, FL\, United States
ATTACH;FMTTYPE=image/png:https://sucrecharityfoundation.org/wp-content/uploads/2023/06/sucreevent2.png
END:VEVENT
BEGIN:VEVENT
DTSTART;TZID=UTC:20230727T160000
DTEND;TZID=UTC:20230727T180000
DTSTAMP:20260425T073906
CREATED:20230609T230645Z
LAST-MODIFIED:20230713T231706Z
UID:812-1690473600-1690480800@sucrecharityfoundation.org
SUMMARY:Pasando fronteras: Mi viaje a un futuro mejor
DESCRIPTION:Un vision común. Memorias vivenciales. Metas y Objetivos. \n\n\n\n\nLas vivencias y experiencias de nuestros directores de la fundación\, quienes compartiremos; los disparadores\, motivaciones y experiencias migratorias.\n \n\n\n\nPara mas info https://pasando-fronteras-SCF.eventbrite.com
URL:https://sucrecharityfoundation.org/evento/pasando-fronteras-mi-viaje-a-un-futuro-mejor/
LOCATION:Online por zoom\, FL\, United States
ATTACH;FMTTYPE=image/png:https://sucrecharityfoundation.org/wp-content/uploads/2023/06/sucreevent1.png
END:VEVENT
END:VCALENDAR