BEGIN:VCALENDAR
VERSION:2.0
PRODID:-//Sucre Charity Foundation - ECPv6.15.20//NONSGML v1.0//EN
CALSCALE:GREGORIAN
METHOD:PUBLISH
X-ORIGINAL-URL:https://sucrecharityfoundation.org
X-WR-CALDESC:Events for Sucre Charity Foundation
REFRESH-INTERVAL;VALUE=DURATION:PT1H
X-Robots-Tag:noindex
X-PUBLISHED-TTL:PT1H
BEGIN:VTIMEZONE
TZID:America/New_York
BEGIN:DAYLIGHT
TZOFFSETFROM:-0500
TZOFFSETTO:-0400
TZNAME:EDT
DTSTART:20240310T070000
END:DAYLIGHT
BEGIN:STANDARD
TZOFFSETFROM:-0400
TZOFFSETTO:-0500
TZNAME:EST
DTSTART:20241103T060000
END:STANDARD
BEGIN:DAYLIGHT
TZOFFSETFROM:-0500
TZOFFSETTO:-0400
TZNAME:EDT
DTSTART:20250309T070000
END:DAYLIGHT
BEGIN:STANDARD
TZOFFSETFROM:-0400
TZOFFSETTO:-0500
TZNAME:EST
DTSTART:20251102T060000
END:STANDARD
BEGIN:DAYLIGHT
TZOFFSETFROM:-0500
TZOFFSETTO:-0400
TZNAME:EDT
DTSTART:20260308T070000
END:DAYLIGHT
BEGIN:STANDARD
TZOFFSETFROM:-0400
TZOFFSETTO:-0500
TZNAME:EST
DTSTART:20261101T060000
END:STANDARD
END:VTIMEZONE
BEGIN:VEVENT
DTSTART;TZID=America/New_York:20250305T180000
DTEND;TZID=America/New_York:20250305T210000
DTSTAMP:20260424T085217
CREATED:20250227T205719Z
LAST-MODIFIED:20250227T210322Z
UID:1113-1741197600-1741208400@sucrecharityfoundation.org
SUMMARY:Opciones migratorias después del TPS
DESCRIPTION:https://opcionesmigratoriastps.eventbrite.com \nPatricia Flanagan es una abogada diligente\, apasionada y dedicada cuya misión es obtener visas de empleo para inversionistas\, profesionales y personas con habilidades extraordinarias o especiales. \nElla representa a clientes ante los Servicios de Ciudadanía e Inmigración de los Estados Unidos (USCIS) con respecto a las solicitudes de visa de no inmigrante; peticiones de trabajadores inmigrantes; Peticiones de visa de inmigrante basadas en la familia y solicitudes de naturalización\, así como corporaciones multinacionales en asuntos de inmigración comercial. También prepara indultos de inadmisibilidad penal y solicitudes para el procesamiento consular de visas de inmigrantes y no inmigrantes. \nEducación Académica \n\nJuris Doctor\, mayo de 2009; orientado en la Práctica Jurídica Internacional\nLicenciatura en Artes\, Relaciones Internacionales y Ciencias Políticas\, Mayo de 2005
URL:https://sucrecharityfoundation.org/evento/opciones-migratorias-despues-del-tps/
LOCATION:Online por zoom\, FL\, United States
ATTACH;FMTTYPE=image/png:https://sucrecharityfoundation.org/wp-content/uploads/2025/02/Copy-of-Emigrar-Destino-EEUU-¡Lo-que-necesitas-saber.png
END:VEVENT
END:VCALENDAR