BEGIN:VCALENDAR
VERSION:2.0
PRODID:-//Sucre Charity Foundation - ECPv6.15.20//NONSGML v1.0//EN
CALSCALE:GREGORIAN
METHOD:PUBLISH
X-WR-CALNAME:Sucre Charity Foundation
X-ORIGINAL-URL:https://sucrecharityfoundation.org
X-WR-CALDESC:Events for Sucre Charity Foundation
REFRESH-INTERVAL;VALUE=DURATION:PT1H
X-Robots-Tag:noindex
X-PUBLISHED-TTL:PT1H
BEGIN:VTIMEZONE
TZID:UTC
BEGIN:STANDARD
TZOFFSETFROM:+0000
TZOFFSETTO:+0000
TZNAME:UTC
DTSTART:20220101T000000
END:STANDARD
END:VTIMEZONE
BEGIN:VEVENT
DTSTART;TZID=UTC:20231030T170000
DTEND;TZID=UTC:20231030T190000
DTSTAMP:20260424T223644
CREATED:20230609T230944Z
LAST-MODIFIED:20231018T205534Z
UID:816-1698685200-1698692400@sucrecharityfoundation.org
SUMMARY:Emigrar: Destino Canadá ¡Lo que necesitas saber!
DESCRIPTION:Hjalmar (LLB\, MBA\, RCIC) recibió su Licenciatura en Derecho de la Universidad de Los Andes en América del Sur y luego completó su Maestría en Administración de Empresas en Gestión Global en la Universidad de Phoenix. Recibió su Especialización Profesional en Gestión del Sector Público de la Universidad de Victoria\, y se graduó del programa de Diploma de Consultor de Inmigración de Ashton College. Profesionalmente\, la práctica de consultoría de inmigración de Hjalmar se enfoca en solicitudes de residencia temporal y programas de patrocinio familiar y refugiados. Además de su práctica de inmigración\, Hjalmar también ha representado a individuos y corporaciones en asuntos administrativos. También es colaborador y miembro activo de la junta directiva de varias organizaciones sin fines de lucro en la provincia de Columbia Británica. \n\nTreinta años de experiencia en la práctica legal civil.\nComisionado para la Toma de Declaraciones Juradas en la Columbia Británica.\nMiembro acreditado del Colegio de Consultores de Inmigración y Ciudadanía de Canadá\, College des Consultants en Immigration et en Citoyenneté\, especializado en todos los aspectos de la inmigración y ciudadanía canadienses.\nProfesional certificado en comercio internacional CITP\nProfesional de Negocios Internacionales FIBP\nLicencia IRB Immigration Refuge Board of Canada\n\nhttps://www.eventbrite.com/e/entradas-emigrar-destino-canada-lo-que-necesitas-saber-739887191507?aff=ebemoffollowpublishemail&utm_term=Emigrar%3A+Destino+Canada+%C2%A1Lo+que+necesitas+saber%21&utm_medium=email&utm_content=follow_notification&utm_source=eventbrite&utm_campaign=following_published_event \n 
URL:https://sucrecharityfoundation.org/evento/emigrar-destino-canada-lo-que-necesitas-saber/
ATTACH;FMTTYPE=image/png:https://sucrecharityfoundation.org/wp-content/uploads/2023/06/sucreevent3.png
END:VEVENT
END:VCALENDAR